BEGIN:VCALENDAR
VERSION:2.0
PRODID:-//VMS Entertainment GmbH - ECPv6.0.12//NONSGML v1.0//EN
CALSCALE:GREGORIAN
METHOD:PUBLISH
X-WR-CALNAME:VMS Entertainment GmbH
X-ORIGINAL-URL:https://vms-entertainment.de
X-WR-CALDESC:Veranstaltungen für VMS Entertainment GmbH
REFRESH-INTERVAL;VALUE=DURATION:PT1H
X-Robots-Tag:noindex
X-PUBLISHED-TTL:PT1H
BEGIN:VTIMEZONE
TZID:Europe/Berlin
BEGIN:DAYLIGHT
TZOFFSETFROM:+0100
TZOFFSETTO:+0200
TZNAME:CEST
DTSTART:20190331T010000
END:DAYLIGHT
BEGIN:STANDARD
TZOFFSETFROM:+0200
TZOFFSETTO:+0100
TZNAME:CET
DTSTART:20191027T010000
END:STANDARD
END:VTIMEZONE
BEGIN:VEVENT
DTSTART;TZID=Europe/Berlin:20190308T150000
DTEND;TZID=Europe/Berlin:20190308T173000
DTSTAMP:20260425T195042
CREATED:20190822T125610Z
LAST-MODIFIED:20190822T125610Z
UID:10000140-1552057200-1552066200@vms-entertainment.de
SUMMARY:Feuerwehrmann Sam rettet den Zirkus!
DESCRIPTION:LIVE! im Stadeum in Flensburg am 08.03.2019! \nDer Kinderheld Feuerwehrmann Sam kommt zurück! \nErlebt Sam\, sein treues Feuerwehrauto Jupiter\, Elvis\, Penny\, Feuerwehrhauptmann Steele und Norman in einer brandneuen Familienshow für Jung und Alt. \nIn Sam’s neuem Abenteuer kommt der Zirkus nach Pontypandy. \nDas kleine Städtchen freut sich sehr darüber\, doch wie immer\, \nwenn Norman in der Nähe ist\, geht etwas schief. \nWird Sam den Zirkus retten? \nMANEGE FREI FÜR FEUERWEHRMANN SAM! \nDas Theater auf Tour bringt die mitreißende Bühnenshow voller Musik\, Tanz und Humor exklusiv am 08.03.2019 um 15 Uhr nach Flensbrug in das Deutsche Haus!\n \nKommt verkleidet! \nFeuerwehrmann Sam lädt alle Besucher ein\, sich als Feuerwehrmann oder Zirkusartist zu verkleiden.
URL:https://vms-entertainment.de/event/feuerwehrmann-sam-rettet-den-zirkus-2/
LOCATION:Deutsches Haus\, Friedrich-Ebert-Straße 7\, Flensburg\, Schleswig Holstein\, 24937\, Deutschland
CATEGORIES:Kinder-VA
ATTACH;FMTTYPE=image/jpeg:https://vms-entertainment.de/wp-content/uploads/sites/3/2019/08/Sam_Zirkus_Abbildung_72.jpg
ORGANIZER;CN="VMS%20Entertainment%20GmbH":MAILTO:info@vms-entertainment.de
GEO:54.7811705;9.4381126
X-APPLE-STRUCTURED-LOCATION;VALUE=URI;X-ADDRESS=Deutsches Haus Friedrich-Ebert-Straße 7 Flensburg Schleswig Holstein 24937 Deutschland;X-APPLE-RADIUS=500;X-TITLE=Friedrich-Ebert-Straße 7:geo:9.4381126,54.7811705
END:VEVENT
BEGIN:VEVENT
DTSTART;TZID=Europe/Berlin:20190309T150000
DTEND;TZID=Europe/Berlin:20190309T173000
DTSTAMP:20260425T195042
CREATED:20190822T125442Z
LAST-MODIFIED:20190822T125914Z
UID:10000139-1552143600-1552152600@vms-entertainment.de
SUMMARY:Feuerwehrmann Sam rettet den Zirkus!
DESCRIPTION:LIVE! im Stadeum in Stade am 09.03.2019! \nDer Kinderheld Feuerwehrmann Sam kommt zurück! \nErlebt Sam\, sein treues Feuerwehrauto Jupiter\, Elvis\, Penny\, Feuerwehrhauptmann Steele und Norman in einer brandneuen Familienshow für Jung und Alt. \nIn Sam’s neuem Abenteuer kommt der Zirkus nach Pontypandy. \nDas kleine Städtchen freut sich sehr darüber\, doch wie immer\, \nwenn Norman in der Nähe ist\, geht etwas schief. \nWird Sam den Zirkus retten? \nMANEGE FREI FÜR FEUERWEHRMANN SAM! \nDas Theater auf Tour bringt die mitreißende Bühnenshow voller Musik\, Tanz und Humor exklusiv am 09.03.2019 um 15 Uhr nach Stade in das Stadeum!\n \nKommt verkleidet! \nFeuerwehrmann Sam lädt alle Besucher ein\, sich als Feuerwehrmann oder Zirkusartist zu verkleiden.
URL:https://vms-entertainment.de/event/feuerwehrmann-sam-rettet-den-zirkus/
LOCATION:Stadeum\, Schiffertorsstraße 6\, Stade\, Niedersachsen\, 21682\, Deutschland
CATEGORIES:Kinder-VA
ATTACH;FMTTYPE=image/jpeg:https://vms-entertainment.de/wp-content/uploads/sites/3/2019/08/Sam_Zirkus_Abbildung_72.jpg
ORGANIZER;CN="VMS%20Entertainment%20GmbH":MAILTO:info@vms-entertainment.de
GEO:53.60469;9.46977
X-APPLE-STRUCTURED-LOCATION;VALUE=URI;X-ADDRESS=Stadeum Schiffertorsstraße 6 Stade Niedersachsen 21682 Deutschland;X-APPLE-RADIUS=500;X-TITLE=Schiffertorsstraße 6:geo:9.46977,53.60469
END:VEVENT
END:VCALENDAR