BEGIN:VCALENDAR
VERSION:2.0
PRODID:-//VMS Entertainment GmbH - ECPv6.0.12//NONSGML v1.0//EN
CALSCALE:GREGORIAN
METHOD:PUBLISH
X-WR-CALNAME:VMS Entertainment GmbH
X-ORIGINAL-URL:https://vms-entertainment.de
X-WR-CALDESC:Veranstaltungen für VMS Entertainment GmbH
REFRESH-INTERVAL;VALUE=DURATION:PT1H
X-Robots-Tag:noindex
X-PUBLISHED-TTL:PT1H
BEGIN:VTIMEZONE
TZID:Europe/Berlin
BEGIN:DAYLIGHT
TZOFFSETFROM:+0100
TZOFFSETTO:+0200
TZNAME:CEST
DTSTART:20190331T010000
END:DAYLIGHT
BEGIN:STANDARD
TZOFFSETFROM:+0200
TZOFFSETTO:+0100
TZNAME:CET
DTSTART:20191027T010000
END:STANDARD
END:VTIMEZONE
BEGIN:VEVENT
DTSTART;TZID=Europe/Berlin:20190216T150000
DTEND;TZID=Europe/Berlin:20190216T173000
DTSTAMP:20260425T225747
CREATED:20191001T142544Z
LAST-MODIFIED:20191001T142544Z
UID:10000144-1550329200-1550338200@vms-entertainment.de
SUMMARY:Bibi Blocksberg – HEXEN HEXEN ÜBERALL!
DESCRIPTION:Das Hexenvergnügen mit fetzigen Songs zum Mitsingen und Mittanzen kommt am 16.02.2019 um 15 Uhr auf die       Musical-Bühne in den CongressPark Wolfsburg! \nWow\, was für eine Nachricht: Der Welthexentag kommt nach Neustadt! Bibi Blocksberg und Schubia sprühen vor Ideen\, eine Hexendisco und eine Modenschau wollen sie auf die Beine stellen. Die Althexen  denken eher an Warzenschönheitswettbewerbe\, althexische Kreistänze und stundenlange Vorträge über Hexenkunde … \nDie Junghexen aber proben den Aufstand und wollen alles ganz anders machen\, jung\, peppig und lustig. Da kann das Publikum kräftig mitsingen und mittanzen. Hexen auf der Bühne und vor der Bühne feiern zuammen. Alle helfen\, den Hexentag zu gestalten und sind herzlich eingeladen\, in ihrem schönsten Hexenkostüm zu kommen!
URL:https://vms-entertainment.de/event/bibi-blocksberg-hexen-hexen-ueberall/
LOCATION:Bremen
ATTACH;FMTTYPE=image/jpeg:https://vms-entertainment.de/wp-content/uploads/sites/3/2019/10/Bibi_Zeichenfläche-1-e1688392627706.jpg
ORGANIZER;CN="VMS%20Entertainment%20GmbH":MAILTO:info@vms-entertainment.de
END:VEVENT
END:VCALENDAR